BEGIN:VCALENDAR
VERSION:2.0
PRODID:-//Hope Animal Rescue - ECPv6.15.20//NONSGML v1.0//EN
CALSCALE:GREGORIAN
METHOD:PUBLISH
X-ORIGINAL-URL:https://www.hopeanimals.org
X-WR-CALDESC:Events for Hope Animal Rescue
REFRESH-INTERVAL;VALUE=DURATION:PT1H
X-Robots-Tag:noindex
X-PUBLISHED-TTL:PT1H
BEGIN:VTIMEZONE
TZID:America/New_York
BEGIN:DAYLIGHT
TZOFFSETFROM:-0500
TZOFFSETTO:-0400
TZNAME:EDT
DTSTART:20250309T070000
END:DAYLIGHT
BEGIN:STANDARD
TZOFFSETFROM:-0400
TZOFFSETTO:-0500
TZNAME:EST
DTSTART:20251102T060000
END:STANDARD
BEGIN:DAYLIGHT
TZOFFSETFROM:-0500
TZOFFSETTO:-0400
TZNAME:EDT
DTSTART:20260308T070000
END:DAYLIGHT
BEGIN:STANDARD
TZOFFSETFROM:-0400
TZOFFSETTO:-0500
TZNAME:EST
DTSTART:20261101T060000
END:STANDARD
BEGIN:DAYLIGHT
TZOFFSETFROM:-0500
TZOFFSETTO:-0400
TZNAME:EDT
DTSTART:20270314T070000
END:DAYLIGHT
BEGIN:STANDARD
TZOFFSETFROM:-0400
TZOFFSETTO:-0500
TZNAME:EST
DTSTART:20271107T060000
END:STANDARD
END:VTIMEZONE
BEGIN:VEVENT
DTSTART;TZID=America/New_York:20260421T180000
DTEND;TZID=America/New_York:20260421T200000
DTSTAMP:20260421T040443
CREATED:20260408T130631Z
LAST-MODIFIED:20260410T183722Z
UID:2296-1776794400-1776801600@www.hopeanimals.org
SUMMARY:Pints & Pups at Pony (Durham)
DESCRIPTION:Join us on the third Tuesday of every month for tasty beer + a pup meet & greet event at Ponysaurus in Durham!
URL:https://www.hopeanimals.org/event/pints-pups-at-pony-durham-14/
LOCATION:Ponysaurus Brewing Company (Durham)\, 219 Hood Street\, Durham\, NC\, 27701\, United States
ATTACH;FMTTYPE=image/jpeg:https://www.hopeanimals.org/wp-content/uploads/2026/04/0Q9A6504-Edit1.jpg
END:VEVENT
BEGIN:VEVENT
DTSTART;TZID=America/New_York:20260423T180000
DTEND;TZID=America/New_York:20260423T200000
DTSTAMP:20260421T040443
CREATED:20260408T131508Z
LAST-MODIFIED:20260410T183814Z
UID:2300-1776967200-1776974400@www.hopeanimals.org
SUMMARY:Pups on the Patio Springtime Series
DESCRIPTION:Come enjoy spring with pups and a cocktail on the patio at Kingfisher. This event is 21+ only.
URL:https://www.hopeanimals.org/event/pups-on-the-patio-springtime-series/
LOCATION:Kingfisher\, 321 E. Chapel Hill St.\, Durham
ATTACH;FMTTYPE=image/jpeg:https://www.hopeanimals.org/wp-content/uploads/2026/04/Star-Hope-Animal-Rescue-107.jpg
END:VEVENT
BEGIN:VEVENT
DTSTART;TZID=America/New_York:20260505T180000
DTEND;TZID=America/New_York:20260505T200000
DTSTAMP:20260421T040443
CREATED:20260408T130518Z
LAST-MODIFIED:20260410T184457Z
UID:2295-1778004000-1778011200@www.hopeanimals.org
SUMMARY:Pints & Pups at Pony (Raleigh)
DESCRIPTION:Join us on the first Tuesday of every month for tasty beer + a pup meet & greet event at Ponysaurus in Raleigh!
URL:https://www.hopeanimals.org/event/pints-pups-at-pony-raleigh-16/
LOCATION:Ponysaurus Brewing Company (Raleigh)\, 2221 Iron Works Drive\, Suite 100\, Raleigh\, NC\, 27604
ATTACH;FMTTYPE=image/jpeg:https://www.hopeanimals.org/wp-content/uploads/2026/04/Gary_2N6A7822.jpg
END:VEVENT
BEGIN:VEVENT
DTSTART;TZID=America/New_York:20260509T110000
DTEND;TZID=America/New_York:20260509T150000
DTSTAMP:20260421T040443
CREATED:20260408T132456Z
LAST-MODIFIED:20260410T195524Z
UID:2302-1778324400-1778338800@www.hopeanimals.org
SUMMARY:National Dog Mom Day
DESCRIPTION:Puppies\, raffles\, vendors\, a photo booth\, and more! Come celebrate all things dog with the Triangle Canine Club and Hope Animal Rescue.
URL:https://www.hopeanimals.org/event/national-dog-mom-day/
LOCATION:Boxyard RTP\, 900 Park Offices Dr\, Research Triangle Park\, NC\, 27709\, United States
ATTACH;FMTTYPE=image/heic:https://www.hopeanimals.org/wp-content/uploads/2026/04/IMG_5622.jpg
END:VEVENT
BEGIN:VEVENT
DTSTART;TZID=America/New_York:20260519T180000
DTEND;TZID=America/New_York:20260519T200000
DTSTAMP:20260421T040443
CREATED:20260408T130808Z
LAST-MODIFIED:20260418T163612Z
UID:2297-1779213600-1779220800@www.hopeanimals.org
SUMMARY:Pints & Pups at Pony (Durham)
DESCRIPTION:Join us on the third Tuesday of every month for tasty beer + a pup meet & greet event at Ponysaurus in Durham!
URL:https://www.hopeanimals.org/event/pints-pups-at-pony-durham-15/
LOCATION:Ponysaurus Brewing Company (Durham)\, 219 Hood Street\, Durham\, NC\, 27701\, United States
ATTACH;FMTTYPE=image/jpeg:https://www.hopeanimals.org/wp-content/uploads/2026/04/0Q9A3294-Edit.jpg
END:VEVENT
BEGIN:VEVENT
DTSTART;TZID=America/New_York:20260528T180000
DTEND;TZID=America/New_York:20260528T200000
DTSTAMP:20260421T040443
CREATED:20260408T131838Z
LAST-MODIFIED:20260418T163845Z
UID:2301-1779991200-1779998400@www.hopeanimals.org
SUMMARY:Pups on the Patio Springtime Series
DESCRIPTION:Come enjoy spring with pups and a cocktail on the patio at Kingfisher. This event is 21+ only.
URL:https://www.hopeanimals.org/event/pups-on-the-patio-springtime-series-2/
LOCATION:Kingfisher\, 321 E. Chapel Hill St.\, Durham
ATTACH;FMTTYPE=image/jpeg:https://www.hopeanimals.org/wp-content/uploads/2026/04/HAR_Ponysaurus_April2026-08461.jpg
END:VEVENT
END:VCALENDAR